BEGIN:VCALENDAR
VERSION:2.0
PRODID:-//B Sporty - ECPv4.6.17//NONSGML v1.0//EN
CALSCALE:GREGORIAN
METHOD:PUBLISH
X-WR-CALNAME:B Sporty
X-ORIGINAL-URL:https://bsporty.lu
X-WR-CALDESC:Events for B Sporty
BEGIN:VEVENT
DTSTART;TZID=UTC+1:20180819T000000
DTEND;TZID=UTC+1:20180819T000000
DTSTAMP:20180701T231716
CREATED:20180111T103333Z
LAST-MODIFIED:20180127T000316Z
UID:189-1534636800-1534636800@bsporty.lu
SUMMARY:Wämper Triathlon
DESCRIPTION:When:\nWhere:\nFamily & Friends allowed:\nOrganizer Website:\nRegistration Website: \nParticipation fee per member paid by B Sporty: \nB Sporty Meets @ ______ \nPrices:\n \n  \nParticipants: \n\n  \n\n    Total Records Found: 1\, showing 100 per page    \n      \n        \n          NameParticipatingPersonsComment        \n      \n\n      \n              \n          \n            \n              David Wadsworth            \n\n        \n            \n              Yes            \n\n        \n            \n              1            \n\n        \n            \n              Team: Running            \n\n                \n            \n\n    \n	\n  \nRegister: Please confirm with your name below your participation \n\n\n    \n\n\n\n\n\n\n\n\n\n\n\n\n\n\n\n    \n\n      \n      \n                \n        \n        \n\n          Name\n\n          \n\n            \n\n                        \n          \n\n        \n  \n        \n        \n\n          Participating\n\n          \n\n            \n\n\n                        Will you participate in this event?\n                        \n          \n\n        \n  \n        \n        \n\n          Persons\n\n          \n\n            \n\n                        \n          \n\n        \n  \n        \n        \n\n          Comment\n\n          \n\n            \n\n                        \n          \n\n        \n  \n                \n        \n\n            \n        \n      \n        \n          \n            \n           \n            \n          \n          \n            \n                      \n          \n        \n        \n      \n      \n    \n    \n    \n\n
URL:https://bsporty.lu/index.php/event/wamper-triathlon-2/
CATEGORIES:Triathlon
END:VEVENT
END:VCALENDAR