BEGIN:VCALENDAR
VERSION:2.0
PRODID:-//B Sporty - ECPv4.6.17//NONSGML v1.0//EN
CALSCALE:GREGORIAN
METHOD:PUBLISH
X-WR-CALNAME:B Sporty
X-ORIGINAL-URL:https://bsporty.lu
X-WR-CALDESC:Events for B Sporty
BEGIN:VEVENT
DTSTART;TZID=UTC+1:20180923T000000
DTEND;TZID=UTC+1:20180923T000000
DTSTAMP:20180701T234023
CREATED:20180111T103333Z
LAST-MODIFIED:20180315T123045Z
UID:191-1537660800-1537660800@bsporty.lu
SUMMARY:Karting
DESCRIPTION:  \nParticipants: \n\n  \n\n    Total Records Found: 0\, showing 100 per page    \n      \n        \n          \n        \n      \n\n    \n	\n  \nRegister: \n\n\n    \n\n\n\n\n\n\n\n\n\n\n\n\n\n\n\n    \n\n      \n      \n                \n        \n        \n\n          Name\n\n          \n\n            \n\n                        \n          \n\n        \n  \n        \n        \n\n          Participating\n\n          \n\n            \n\n\n                        Will you participate in this event?\n                        \n          \n\n        \n  \n        \n        \n\n          Persons\n\n          \n\n            \n\n                        \n          \n\n        \n  \n        \n        \n\n          Comment\n\n          \n\n            \n\n                        \n          \n\n        \n  \n                \n        \n\n            \n        \n      \n        \n          \n            \n           \n            \n          \n          \n            \n                      \n          \n        \n        \n      \n      \n    \n    \n    \n\n
URL:https://bsporty.lu/index.php/event/karting-2/
CATEGORIES:Karting
END:VEVENT
END:VCALENDAR