BEGIN:VCALENDAR
VERSION:2.0
PRODID:-//B Sporty - ECPv4.6.17//NONSGML v1.0//EN
CALSCALE:GREGORIAN
METHOD:PUBLISH
X-WR-CALNAME:B Sporty
X-ORIGINAL-URL:https://bsporty.lu
X-WR-CALDESC:Events for B Sporty
BEGIN:VEVENT
DTSTART;TZID=UTC+1:20181027T000000
DTEND;TZID=UTC+1:20181027T000000
DTSTAMP:20180701T233049
CREATED:20180111T103333Z
LAST-MODIFIED:20180127T002756Z
UID:193-1540598400-1540598400@bsporty.lu
SUMMARY:Indoor Basketball tournament
DESCRIPTION:Participants: \n\n  \n\n    Total Records Found: 3\, showing 100 per page    \n      \n        \n          NameParticipatingPersonsComment        \n      \n\n      \n              \n          \n            \n              Da Mota Ilidio            \n\n        \n            \n              Yes            \n\n        \n            \n              1            \n\n        \n            \n                          \n\n                \n              \n          \n            \n              Weber Bernd            \n\n        \n            \n              Yes            \n\n        \n            \n              2            \n\n        \n            \n              mit Junge            \n\n                \n              \n          \n            \n              Zenovic Bekim            \n\n        \n            \n              Yes            \n\n        \n            \n              1            \n\n        \n            \n                          \n\n                \n            \n\n    \n	\n  \nRegister: \n\n\n    \n\n\n\n\n\n\n\n\n\n\n\n\n\n\n\n    \n\n      \n      \n                \n        \n        \n\n          Name\n\n          \n\n            \n\n                        \n          \n\n        \n  \n        \n        \n\n          Participating\n\n          \n\n            \n\n\n                        Will you participate in this event?\n                        \n          \n\n        \n  \n        \n        \n\n          Persons\n\n          \n\n            \n\n                        \n          \n\n        \n  \n        \n        \n\n          Comment\n\n          \n\n            \n\n                        \n          \n\n        \n  \n                \n        \n\n            \n        \n      \n        \n          \n            \n           \n            \n          \n          \n            \n                      \n          \n        \n        \n      \n      \n    \n    \n    \n\n
URL:https://bsporty.lu/index.php/event/indoor-basketball-tournament-2/
CATEGORIES:Basketball
END:VEVENT
END:VCALENDAR