BEGIN:VCALENDAR
VERSION:2.0
PRODID:-//B Sporty - ECPv4.6.17//NONSGML v1.0//EN
CALSCALE:GREGORIAN
METHOD:PUBLISH
X-WR-CALNAME:B Sporty
X-ORIGINAL-URL:https://bsporty.lu
X-WR-CALDESC:Events for B Sporty
BEGIN:VEVENT
DTSTART;TZID=UTC+1:20180930T150000
DTEND;TZID=UTC+1:20180930T170000
DTSTAMP:20180701T231108
CREATED:20180528T131121Z
LAST-MODIFIED:20180528T131121Z
UID:708-1538319600-1538326800@bsporty.lu
SUMMARY:Semi-marathon Route du vin & business-run
DESCRIPTION:When: 30 Septembre 2018 \nWhere: \nFamily & Friends allowed: YES \nLocation: Remich \nParticipation fee per member paid by B Sporty:  \nB Sporty Meets @ 15h00 \nPrices: 25-29€ for single person\n \n  \nEvent information: \nFor Business-run we need a team of 3 persons to participate without relay \n  \n  \nEvent Link: \nhttp://routeduvin.lu \nParticipants: \n\n  \n\n    Total Records Found: 1\, showing 100 per page    \n      \n        \n          NameParticipatingPersonsComment        \n      \n\n      \n              \n          \n            \n              Da Mota Ilidio            \n\n        \n            \n              Yes            \n\n        \n            \n              1            \n\n        \n            \n                          \n\n                \n            \n\n    \n	\n  \nRegister: Please confirm with your name below your participation \n\n\n    \n\n\n\n\n\n\n\n\n\n\n\n\n\n\n\n    \n\n      \n      \n                \n        \n        \n\n          Name\n\n          \n\n            \n\n                        \n          \n\n        \n  \n        \n        \n\n          Participating\n\n          \n\n            \n\n\n                        Will you participate in this event?\n                        \n          \n\n        \n  \n        \n        \n\n          Persons\n\n          \n\n            \n\n                        \n          \n\n        \n  \n        \n        \n\n          Comment\n\n          \n\n            \n\n                        \n          \n\n        \n  \n                \n        \n\n            \n        \n      \n        \n          \n            \n           \n            \n          \n          \n            \n                      \n          \n        \n        \n      \n      \n    \n    \n    \n\n
URL:https://bsporty.lu/index.php/event/route-du-vin/
LOCATION:Remich\, Luxembourg
END:VEVENT
END:VCALENDAR