BEGIN:VCALENDAR
VERSION:2.0
PRODID:-//B Sporty - ECPv4.6.17//NONSGML v1.0//EN
CALSCALE:GREGORIAN
METHOD:PUBLISH
X-WR-CALNAME:B Sporty
X-ORIGINAL-URL:https://bsporty.lu
X-WR-CALDESC:Events for B Sporty
BEGIN:VEVENT
DTSTART;TZID=UTC+1:20180225T100000
DTEND;TZID=UTC+1:20180225T160000
DTSTAMP:20180701T232808
CREATED:20180111T103330Z
LAST-MODIFIED:20180202T235657Z
UID:174-1519552800-1519574400@bsporty.lu
SUMMARY:Indoor Football tournament
DESCRIPTION:When: 25 February 2018    10h00 – 16h00\nWhere: 2\, rue de Binsfeld Troisivierges (Lux)\nFamily & Friends allowed: Yes\nOrganizer Website: B SPORTY\nRegistration Website:  HERE\nParticipation fee per member paid by B Sporty: Every member will receive a coupon for a drink and a meat \nB Sporty Meets @ 9h30 \nRules:  \n4 Players + 1 Reserve (Mix players allowed and wished)\nOnly 1 licensed player per Team\nAt least one B Sporty member per Team\nEvery participant is responsible for himself\nIf you don’t have a Team\, please register as unique player and Teams will be mixed up \nParticipation fee:\n \nfree \nParticipants: \n\n  \n\n    Total Records Found: 25\, showing 100 per page    \n      \n        \n          NameParticipatingPersonsComment        \n      \n\n      \n              \n          \n            \n              Aliskovic Adis            \n\n        \n            \n              Yes            \n\n        \n            \n              1            \n\n        \n            \n              Einzelspieler            \n\n                \n              \n          \n            \n              Besim Turcovic            \n\n        \n            \n              Yes            \n\n        \n            \n              1            \n\n        \n            \n              Einzelspieler            \n\n                \n              \n          \n            \n              Campos Patrick            \n\n        \n            \n              Yes            \n\n        \n            \n              1            \n\n        \n            \n              Einzelspieler            \n\n                \n              \n          \n            \n              Couvreur Charlotte            \n\n        \n            \n              Yes            \n\n        \n            \n              1            \n\n        \n            \n              Team MIM            \n\n                \n              \n          \n            \n              Da Costa Luis            \n\n        \n            \n              Yes            \n\n        \n            \n              2            \n\n        \n            \n                          \n\n                \n              \n          \n            \n              Da Mota Ilidio            \n\n        \n            \n              Yes            \n\n        \n            \n              1            \n\n        \n            \n              Einzelspieler            \n\n                \n              \n          \n            \n              Daniel Pereira Foncesca            \n\n        \n            \n              Yes            \n\n        \n            \n              1            \n\n        \n            \n              Einzelspieler            \n\n                \n              \n          \n            \n              Hodzic Enes            \n\n        \n            \n              Yes            \n\n        \n            \n              4            \n\n        \n            \n              probably there with a team            \n\n                \n              \n          \n            \n              Iormetti Vittorio            \n\n        \n            \n              Yes            \n\n        \n            \n              1            \n\n        \n            \n              Team MIM            \n\n                \n              \n          \n            \n              Jaeger Jack            \n\n        \n            \n              Yes            \n\n        \n            \n              1            \n\n        \n            \n              Einzelspieler            \n\n                \n              \n          \n            \n              Jesus Flavio            \n\n        \n            \n              Yes            \n\n        \n            \n              1            \n\n        \n            \n              Einzelspieler            \n\n                \n              \n          \n            \n              Julien De Clercq            \n\n        \n            \n              Yes            \n\n        \n            \n              1            \n\n        \n            \n              Team MIM            \n\n                \n              \n          \n            \n              Kovacevic Enes            \n\n        \n            \n              Yes            \n\n        \n            \n              4            \n\n        \n            \n              Team            \n\n                \n              \n          \n            \n              Maurice Myriam            \n\n        \n            \n              Yes            \n\n        \n            \n              1            \n\n        \n            \n              will be there but cannot play            \n\n                \n              \n          \n            \n              Mustic Ines            \n\n        \n            \n              Yes            \n\n        \n            \n              1            \n\n        \n            \n              Einzelspieler            \n\n                \n              \n          \n            \n              Padmavathy Lekshmi            \n\n        \n            \n              Yes            \n\n        \n            \n              1            \n\n        \n            \n              Husband            \n\n                \n              \n          \n            \n              Pedroso Jerome            \n\n        \n            \n              Yes            \n\n        \n            \n              1            \n\n        \n            \n              Einzelspieler            \n\n                \n              \n          \n            \n              Pereira Silvia            \n\n        \n            \n              Yes            \n\n        \n            \n              1            \n\n        \n            \n              will be there but can't play            \n\n                \n              \n          \n            \n              Pinto da Silva Rogerio            \n\n        \n            \n              Yes            \n\n        \n            \n              1            \n\n        \n            \n              Einzelspieler            \n\n                \n              \n          \n            \n              Schuller Romain            \n\n        \n            \n              Yes            \n\n        \n            \n              1            \n\n        \n            \n                          \n\n                \n              \n          \n            \n              Sergio Lobo            \n\n        \n            \n              Yes            \n\n        \n            \n              1            \n\n        \n            \n                          \n\n                \n              \n          \n            \n              Silva Anderson            \n\n        \n            \n              Yes            \n\n        \n            \n              1            \n\n        \n            \n              Einzelspieler            \n\n                \n              \n          \n            \n              Silva Costa Patrick            \n\n        \n            \n              Yes            \n\n        \n            \n              1            \n\n        \n            \n              Einzelspieler            \n\n                \n              \n          \n            \n              Wolter Thomas            \n\n        \n            \n              Yes            \n\n        \n            \n              1            \n\n        \n            \n              Einzelspieler            \n\n                \n              \n          \n            \n              Zenovic Bekim            \n\n        \n            \n              Yes            \n\n        \n            \n              1            \n\n        \n            \n              Einzelspieler            \n\n                \n            \n\n    \n	\n  \nRegister: Please confirm with your name below your participation \n\n\n    \n\n\n\n\n\n\n\n\n\n\n\n\n\n\n\n    \n\n      \n      \n                \n        \n        \n\n          Name\n\n          \n\n            \n\n                        \n          \n\n        \n  \n        \n        \n\n          Participating\n\n          \n\n            \n\n\n                        Will you participate in this event?\n                        \n          \n\n        \n  \n        \n        \n\n          Persons\n\n          \n\n            \n\n                        \n          \n\n        \n  \n        \n        \n\n          Comment\n\n          \n\n            \n\n                        \n          \n\n        \n  \n                \n        \n\n            \n        \n      \n        \n          \n            \n           \n            \n          \n          \n            \n                      \n          \n        \n        \n      \n      \n    \n    \n    \n\n
URL:https://bsporty.lu/index.php/event/indoor-football-tournament-2/
LOCATION:2 Rue de Binsfeld\, Troisvierges\, Luxembourg
CATEGORIES:Football
END:VEVENT
END:VCALENDAR