BEGIN:VCALENDAR
VERSION:2.0
PRODID:-//B Sporty - ECPv4.6.17//NONSGML v1.0//EN
CALSCALE:GREGORIAN
METHOD:PUBLISH
X-WR-CALNAME:B Sporty
X-ORIGINAL-URL:https://bsporty.lu
X-WR-CALDESC:Events for B Sporty
BEGIN:VEVENT
DTSTART;TZID=UTC+1:20180204T000000
DTEND;TZID=UTC+1:20180204T000000
DTSTAMP:20180701T232757
CREATED:20180111T103330Z
LAST-MODIFIED:20180127T000726Z
UID:172-1517702400-1517702400@bsporty.lu
SUMMARY:Xtrail des Ardennes
DESCRIPTION:When: 04.02.2017   11h\nWhere: Wiltz (LUX)\nFamily & Friends allowed: YES\nOrganizer Website: http://dssports.lu\nRegistration Website: https://rmaster.asbl.lu/run_list_new.php?fiGroup=16\nParticipation fee per member paid by B Sporty: 2€ \nB Sporty Meets @ 10h30 in the registration area \nPlease register online to save time \nPrices: \n\n\n\n  Eintritt\n\n\n7\,5km\n12 € \n\n\n14km\n16 € \n\n\n25km\n20€\n\n\n\n  \nParticipants: \n\n  \n\n    Total Records Found: 3\, showing 100 per page    \n      \n        \n          NameParticipatingPersonsComment        \n      \n\n      \n              \n          \n            \n              Boultgen Ronny            \n\n        \n            \n              Yes            \n\n        \n            \n              1            \n\n        \n            \n                          \n\n                \n              \n          \n            \n              Da Mota ILIDIO            \n\n        \n            \n              Yes            \n\n        \n            \n              1            \n\n        \n            \n                          \n\n                \n              \n          \n            \n              Jerome Pedroso            \n\n        \n            \n              Yes            \n\n        \n            \n              1            \n\n        \n            \n                          \n\n                \n            \n\n    \n	\n  \nRegister: Please confirm with your name below your participation \n\n\n    \n\n\n\n\n\n\n\n\n\n\n\n\n\n\n\n    \n\n      \n      \n                \n        \n        \n\n          Name\n\n          \n\n            \n\n                        \n          \n\n        \n  \n        \n        \n\n          Participating\n\n          \n\n            \n\n\n                        Will you participate in this event?\n                        \n          \n\n        \n  \n        \n        \n\n          Persons\n\n          \n\n            \n\n                        \n          \n\n        \n  \n        \n        \n\n          Comment\n\n          \n\n            \n\n                        \n          \n\n        \n  \n                \n        \n\n            \n        \n      \n        \n          \n            \n           \n            \n          \n          \n            \n                      \n          \n        \n        \n      \n      \n    \n    \n    \n\n
URL:https://bsporty.lu/index.php/event/xtrail-des-ardennes-2/
CATEGORIES:Trail
END:VEVENT
END:VCALENDAR